BEGIN:VCALENDAR
VERSION:2.0
PRODID:-//World Vegan Vision - ECPv6.15.20//NONSGML v1.0//EN
CALSCALE:GREGORIAN
METHOD:PUBLISH
X-WR-CALNAME:World Vegan Vision
X-ORIGINAL-URL:https://worldveganvision.org
X-WR-CALDESC:Events for World Vegan Vision
REFRESH-INTERVAL;VALUE=DURATION:PT1H
X-Robots-Tag:noindex
X-PUBLISHED-TTL:PT1H
BEGIN:VTIMEZONE
TZID:America/New_York
BEGIN:DAYLIGHT
TZOFFSETFROM:-0500
TZOFFSETTO:-0400
TZNAME:EDT
DTSTART:20240310T070000
END:DAYLIGHT
BEGIN:STANDARD
TZOFFSETFROM:-0400
TZOFFSETTO:-0500
TZNAME:EST
DTSTART:20241103T060000
END:STANDARD
BEGIN:DAYLIGHT
TZOFFSETFROM:-0500
TZOFFSETTO:-0400
TZNAME:EDT
DTSTART:20250309T070000
END:DAYLIGHT
BEGIN:STANDARD
TZOFFSETFROM:-0400
TZOFFSETTO:-0500
TZNAME:EST
DTSTART:20251102T060000
END:STANDARD
BEGIN:DAYLIGHT
TZOFFSETFROM:-0500
TZOFFSETTO:-0400
TZNAME:EDT
DTSTART:20260308T070000
END:DAYLIGHT
BEGIN:STANDARD
TZOFFSETFROM:-0400
TZOFFSETTO:-0500
TZNAME:EST
DTSTART:20261101T060000
END:STANDARD
END:VTIMEZONE
BEGIN:VEVENT
DTSTART;TZID=America/New_York:20250109T190000
DTEND;TZID=America/New_York:20250206T210000
DTSTAMP:20260420T135125
CREATED:20241209T185454Z
LAST-MODIFIED:20241209T185454Z
UID:3166-1736449200-1738875600@worldveganvision.org
SUMMARY:2025 - 21 Day Jumpstart
DESCRIPTION:  \n \nMake your New Year resolution to be healthy come true. \nJoin the 21 Day Jumpstart program in collaboration with Plant Powered Metro New York! \nJoin by registering at here! \nJumpstart-Winter-2025-Flyer-Digital \n  \nIf you cannot participate\, consider being a sponsor! Help others improve their health! \n 
URL:https://worldveganvision.org/event/jumpstart251/
LOCATION:NY
END:VEVENT
BEGIN:VEVENT
DTSTART;TZID=America/New_York:20250116T080000
DTEND;TZID=America/New_York:20250116T170000
DTSTAMP:20260420T135125
CREATED:20250116T231900Z
LAST-MODIFIED:20250221T202327Z
UID:3214-1737014400-1737046800@worldveganvision.org
SUMMARY:Power of Food for Disease Reversal - Dr. Nandita Shah
DESCRIPTION:World Vegan Vision is planning to organize a presentation by Dr. Nandita Shah on the power of whole foods for disease reversal. The lecture will be held at 6:30PM on Wednesday March 25\, 2025 in Central NJ. The location is yet to be determined and will be announced at the earliest opportunity. Do not miss this opportunity to get introductory  information on the power of whole food plant based diet. Please visit our website for the latest information and to register. You must register to insure admission as the venue may have limited capacity. \nRegister here at Zeffy.com
URL:https://worldveganvision.org/event/drnandita/
LOCATION:NY
END:VEVENT
BEGIN:VEVENT
DTSTART;TZID=America/New_York:20250120T080000
DTEND;TZID=America/New_York:20250120T170000
DTSTAMP:20260420T135125
CREATED:20250121T024105Z
LAST-MODIFIED:20250121T024105Z
UID:3218-1737360000-1737392400@worldveganvision.org
SUMMARY:Vibrant Vegan Party in Ahmedabad
DESCRIPTION:The World Vegan Vision Gujarat Chapter recently hosted its annual “Vibrant Vegan Party\,” bringing together passionate advocates of veganism and sustainability. The event took place on January 18\, 2025\, at the picturesque Aranay Farm\, where attendees enjoyed a delightful evening filled with community spirit and shared commitment to a kinder\, healthier world.\n\nThe party was made possible by the generous hospitality of Madhavi Parikh\, whose venue provided the perfect backdrop for this memorable gathering. Chapter President Dilip Bhai played a crucial role in the seamless coordination of the event\, ensuring everything ran smoothly.\n\nAmong the many supporters in attendance were Rikta Ben\, Dr\,Khushbu\, and Dr. Manisha Ben\, whose unwavering support was vital to the evening’s success. Participants included a diverse group of passionate activists and advocates who share a commitment to promoting veganism and its positive impact on the environment.\n\n“We are immensely grateful to everyone who attended and contributed to this event\,” said Nitin Vyas\, Global Public Relations Director of World Vegan Vision Org. “Your enthusiasm and dedication to our cause are priceless. Together\, we can make a significant difference in the world.”\n\nWorld Vegan Vision encourages everyone to stay connected and continue advocating for a sustainable future. Those interested in joining the mission are invited to share their email addresses for ongoing updates and opportunities to get involved.\n\nThe World Vegan Vision Chapter remains dedicated to fostering a compassionate community committed to promoting ethical\, health-conscious\, and sustainable choices across Gujarat.
URL:https://worldveganvision.org/event/vibrant-vegan-party-in-ahmedabad/
LOCATION:NY
END:VEVENT
END:VCALENDAR