BEGIN:VCALENDAR
VERSION:2.0
PRODID:-//World Vegan Vision - ECPv6.15.20//NONSGML v1.0//EN
CALSCALE:GREGORIAN
METHOD:PUBLISH
X-ORIGINAL-URL:https://worldveganvision.org
X-WR-CALDESC:Events for World Vegan Vision
REFRESH-INTERVAL;VALUE=DURATION:PT1H
X-Robots-Tag:noindex
X-PUBLISHED-TTL:PT1H
BEGIN:VTIMEZONE
TZID:America/New_York
BEGIN:DAYLIGHT
TZOFFSETFROM:-0500
TZOFFSETTO:-0400
TZNAME:EDT
DTSTART:20240310T070000
END:DAYLIGHT
BEGIN:STANDARD
TZOFFSETFROM:-0400
TZOFFSETTO:-0500
TZNAME:EST
DTSTART:20241103T060000
END:STANDARD
BEGIN:DAYLIGHT
TZOFFSETFROM:-0500
TZOFFSETTO:-0400
TZNAME:EDT
DTSTART:20250309T070000
END:DAYLIGHT
BEGIN:STANDARD
TZOFFSETFROM:-0400
TZOFFSETTO:-0500
TZNAME:EST
DTSTART:20251102T060000
END:STANDARD
BEGIN:DAYLIGHT
TZOFFSETFROM:-0500
TZOFFSETTO:-0400
TZNAME:EDT
DTSTART:20260308T070000
END:DAYLIGHT
BEGIN:STANDARD
TZOFFSETFROM:-0400
TZOFFSETTO:-0500
TZNAME:EST
DTSTART:20261101T060000
END:STANDARD
BEGIN:DAYLIGHT
TZOFFSETFROM:-0500
TZOFFSETTO:-0400
TZNAME:EDT
DTSTART:20270314T070000
END:DAYLIGHT
BEGIN:STANDARD
TZOFFSETFROM:-0400
TZOFFSETTO:-0500
TZNAME:EST
DTSTART:20271107T060000
END:STANDARD
END:VTIMEZONE
BEGIN:VEVENT
DTSTART;TZID=America/New_York:20250705T080000
DTEND;TZID=America/New_York:20250705T170000
DTSTAMP:20260420T111648
CREATED:20250705T205216Z
LAST-MODIFIED:20250706T143552Z
UID:3305-1751702400-1751734800@worldveganvision.org
SUMMARY:2025-07-05 Gujarati Physicians Convention
DESCRIPTION:Dr. Shrenik Shah attended the Gujarati Physicians Convention in Atlanta from July 3 – 6\, 2025 and presented a lecture on \nPlant Based Diet for Metabolic Syndrome Reversal \nHere is the video on YouTube – https://youtu.be/KH0D52sR6i0 \n   \nMore photos are here.
URL:https://worldveganvision.org/event/2025-07-05-gujarati-physicians-convention/
LOCATION:signia Atlana GA\, GA\, 30313\, United States
END:VEVENT
BEGIN:VEVENT
DTSTART;TZID=America/New_York:20250707T090000
DTEND;TZID=America/New_York:20250707T180000
DTSTAMP:20260420T111648
CREATED:20250629T141804Z
LAST-MODIFIED:20250629T141804Z
UID:3301-1751878800-1751911200@worldveganvision.org
SUMMARY:Fruitarian Info Event - Mumbai
DESCRIPTION:World Vegan Vision brings you\, first time an out of the box event\, 🍉 Fruitarian Meetup on 7th July in Mumbai\nSpend the day with Fruitarian Gaurav Goyal and Dr. Parth Goyal \n– Learn how fruits can reverse chronic illness\n– ⁠Understand the science and simplicity of a fruitarian lifestyle\n– ⁠Hear real healing stories that inspire\n– ⁠Ask your personal health questions\n– ⁠Connect with like-minded people on a shared path \nFREE Unlimited Fruits!\nLocation – Shivaji Hall\, Ghatkopar\, Mumbai\nContribution – ₹500\nTime – 9AM-6PM \n🌿 Reserve Your Spot Today\nGpay on +91 9811629925 and Register Now! \nOrganised by EAT Fruits and HEAL \nKnow more about us here – https://www.youtube.com/watch?v=ohU8AC5751w
URL:https://worldveganvision.org/event/fruitarian-info-event-mumbai/
LOCATION:NY
END:VEVENT
BEGIN:VEVENT
DTSTART;TZID=America/New_York:20250712T080000
DTEND;TZID=America/New_York:20250712T170000
DTSTAMP:20260420T111648
CREATED:20250712T223716Z
LAST-MODIFIED:20250712T223716Z
UID:3317-1752307200-1752339600@worldveganvision.org
SUMMARY:Yoga Day with BK in Long Island
DESCRIPTION:World Vegan Vision celebrated the International Yoga Day 2025 by participating in an event organized by the Brahamkumaris. \nWorld Vegan Vision distributed outreach leaflets to promote veganism. \nMedia Coverage:\n\nITV Gold Video Coverage (YouTube):\nWatch the segment here\nPrint and Online Coverage:\n\nThe Indian Panorama –  clipping featuring highlights from the event.\nNew India Abroad – Coverage available in both English and Gujarati editions:\nLink to article\nThe South Asian Times –\nLink to article
URL:https://worldveganvision.org/event/yoga-day-with-bk-in-long-island/
LOCATION:NY
END:VEVENT
BEGIN:VEVENT
DTSTART;TZID=America/New_York:20251116T110000
DTEND;TZID=America/New_York:20251116T140000
DTSTAMP:20260420T111648
CREATED:20251123T122055Z
LAST-MODIFIED:20251123T122055Z
UID:3329-1763290800-1763301600@worldveganvision.org
SUMMARY:Thanksgiving Celebration - NJ
DESCRIPTION:World Vegan Vision celebrated thanksgiving on November 16\, 2025 at the Akbar restaurant in Edison NJ with invited guests.
URL:https://worldveganvision.org/event/thanksgiving-celebration-nj/
LOCATION:akbar restaurant\, 21 Cortlandt St Suite 1\, Edison\, NJ\, 08837\, United States
END:VEVENT
BEGIN:VEVENT
DTSTART;TZID=America/New_York:20251123T140000
DTEND;TZID=America/New_York:20251123T160000
DTSTAMP:20260420T111648
CREATED:20251124T141641Z
LAST-MODIFIED:20251126T115838Z
UID:3332-1763906400-1763913600@worldveganvision.org
SUMMARY:A Musical Evening
DESCRIPTION:  \n \nPhotos are here \nPress Release – https://newsindiatimes.com/sitar-legend-shahid-parvez-khan-dazzles-audience-at-nanuet-library/
URL:https://worldveganvision.org/event/a-musical-evening/
LOCATION:NY
END:VEVENT
BEGIN:VEVENT
DTSTART;TZID=America/New_York:20251207T110000
DTEND;TZID=America/New_York:20251207T150000
DTSTAMP:20260420T111648
CREATED:20251214T201648Z
LAST-MODIFIED:20251214T201648Z
UID:3341-1765105200-1765119600@worldveganvision.org
SUMMARY:2025 Thanksgiving - NY
DESCRIPTION:World Vegan Vision NY chapter celebrated Thanksgiving as follows. \nHere is the video of Dr. Bahl’s lecture – https://youtu.be/hFkh2lDi7HM \nHere is the press release in New India Abroad.
URL:https://worldveganvision.org/event/2025-thanksgiving-ny/
LOCATION:NY
END:VEVENT
BEGIN:VEVENT
DTSTART;TZID=America/New_York:20251213T100000
DTEND;TZID=America/New_York:20251214T220000
DTSTAMP:20260420T111648
CREATED:20251231T144926Z
LAST-MODIFIED:20251231T172347Z
UID:3349-1765620000-1765749600@worldveganvision.org
SUMMARY:The Kind Carnival in Telangana
DESCRIPTION:https://www.thekindcarnival.in/ \n \nPhotos:\nhttps://drive.google.com/drive/folders/1ZH8-A0ZMCjOIl0K_L4uxZgMuciYGnBwF?usp=sharing\n\nhttps://drive.google.com/drive/folders/1ne4FnHnAvgE6xr7oDhZhyrlXQrXS323W?usp=drive_link\n\nhttps://drive.google.com/drive/folders/1tuHdbn83O7oIoBfkp35p_FpPtKJTug4a?usp=sharing\n\nVideos:\nhttps://drive.google.com/file/d/1HKvnetB9hbCvpyks9m7Z3CD_pmAngsdo/view?usp=sharing\n\nhttps://drive.google.com/file/d/1lb5G3wUMeC6TkO5Rmf7VRlKEi-Oe8XH8/view?usp=sharing\n  \n 
URL:https://worldveganvision.org/event/2025-12-kind-carnival/
LOCATION:NY
END:VEVENT
BEGIN:VEVENT
DTSTART;TZID=America/New_York:20251222T080000
DTEND;TZID=America/New_York:20260110T170000
DTSTAMP:20260420T111648
CREATED:20251226T020630Z
LAST-MODIFIED:20251226T020630Z
UID:3345-1766390400-1768064400@worldveganvision.org
SUMMARY:Donation to Support Zoe Rosenberg
DESCRIPTION:Donate to support Zoe Rosenberg!\n\n\nAnimal rescuer Zoe Rosenberg began her 90-day jail sentence on Dec 11\, 2025. \nRead all about her action and her unjust trial and sentencing in this at The Guardian. \nYour donation will be matched with an equal amount. \nhttps://www.zeffy.com/…/donate-to-support-zoe-rosenberg\nPlease share this post far and wide!\n#GoVegan\n#GoVeganForTheAnimals\n#GoVeganForThePlanet\n#DitchTheDairy\n#DairyIsCruel\n#Peacebeginsonyourplate
URL:https://worldveganvision.org/event/donation-zoe-rosenberg/
LOCATION:NY
END:VEVENT
BEGIN:VEVENT
DTSTART;TZID=America/New_York:20260210T120000
DTEND;TZID=America/New_York:20260210T150000
DTSTAMP:20260420T111648
CREATED:20260212T123611Z
LAST-MODIFIED:20260302T102027Z
UID:3362-1770724800-1770735600@worldveganvision.org
SUMMARY:2026-02-10 Seniors of South Jersey
DESCRIPTION:Photos and Videos are here . \nDr. Shrenik G. Shah presented on the topic of “Mind Body and Spirit Alignment with WFPB Diet” on February 10\, 2026 at the Indian Cultural Center of South Jersey. Over 100 people were deeply engaged in the presentation and followed up with a many questions. \nPress Release – https://newsindiatimes.com/south-jersey-seniors-attend-talk-on-vegan-diet/
URL:https://worldveganvision.org/event/2026-02-10-seniors-of-south-jersey/
LOCATION:NY
END:VEVENT
BEGIN:VEVENT
DTSTART;TZID=America/New_York:20260315T110000
DTEND;TZID=America/New_York:20260315T123000
DTSTAMP:20260420T111648
CREATED:20260222T153643Z
LAST-MODIFIED:20260222T153726Z
UID:3368-1773572400-1773577800@worldveganvision.org
SUMMARY:Feeding Our Families with Confidence - Webinar
DESCRIPTION:Feeding Our Families with Confidence\nA webinar with Dr. Reshma Shah\, MD and Kalindi Bakshi\, PhD.\nMarch 15\, 2026\n11:00 AM EDT \nWebinar participation is free but you must register at the URL provided in our Facebook post or the URL in our LinkTree in Bio. \n 
URL:https://worldveganvision.org/event/feeding-our-families-with-confidence-webinar/
LOCATION:NY
END:VEVENT
BEGIN:VEVENT
DTSTART;TZID=America/New_York:20260405T110000
DTEND;TZID=America/New_York:20260405T140000
DTSTAMP:20260420T111648
CREATED:20260224T121427Z
LAST-MODIFIED:20260224T154033Z
UID:3372-1775386800-1775397600@worldveganvision.org
SUMMARY:Dr. Urvi Shah - A Lunch and Learn Event
DESCRIPTION:Presentation by Dr. Urvi Shah \nIncludes Lunch \n 
URL:https://worldveganvision.org/event/dr-urvi-shah-a-lunch-and-learn-event/
LOCATION:115 Southern Pkwy\, Plainview\, NY 11803\, 115 Southern Pkwy\, Plainview\, NY\, 11803\, United States
END:VEVENT
END:VCALENDAR