BEGIN:VCALENDAR
VERSION:2.0
PRODID:-//World Vegan Vision - ECPv6.15.20//NONSGML v1.0//EN
CALSCALE:GREGORIAN
METHOD:PUBLISH
X-WR-CALNAME:World Vegan Vision
X-ORIGINAL-URL:https://worldveganvision.org
X-WR-CALDESC:Events for World Vegan Vision
REFRESH-INTERVAL;VALUE=DURATION:PT1H
X-Robots-Tag:noindex
X-PUBLISHED-TTL:PT1H
BEGIN:VTIMEZONE
TZID:America/New_York
BEGIN:DAYLIGHT
TZOFFSETFROM:-0500
TZOFFSETTO:-0400
TZNAME:EDT
DTSTART:20240310T070000
END:DAYLIGHT
BEGIN:STANDARD
TZOFFSETFROM:-0400
TZOFFSETTO:-0500
TZNAME:EST
DTSTART:20241103T060000
END:STANDARD
BEGIN:DAYLIGHT
TZOFFSETFROM:-0500
TZOFFSETTO:-0400
TZNAME:EDT
DTSTART:20250309T070000
END:DAYLIGHT
BEGIN:STANDARD
TZOFFSETFROM:-0400
TZOFFSETTO:-0500
TZNAME:EST
DTSTART:20251102T060000
END:STANDARD
BEGIN:DAYLIGHT
TZOFFSETFROM:-0500
TZOFFSETTO:-0400
TZNAME:EDT
DTSTART:20260308T070000
END:DAYLIGHT
BEGIN:STANDARD
TZOFFSETFROM:-0400
TZOFFSETTO:-0500
TZNAME:EST
DTSTART:20261101T060000
END:STANDARD
END:VTIMEZONE
BEGIN:VEVENT
DTSTART;TZID=America/New_York:20250618T173000
DTEND;TZID=America/New_York:20250618T203000
DTSTAMP:20260420T062800
CREATED:20250528T145728Z
LAST-MODIFIED:20250624T165259Z
UID:3278-1750267800-1750278600@worldveganvision.org
SUMMARY:Women's Health - Dr. Nitu Bajekal
DESCRIPTION:  \nPhotos are here – https://photos.app.goo.gl/vTeC6jt8fZSCzQjw7 \nI am pleased to share the report on the insightful event organized on June 18\, 2025\, at Asa’mai Temple\, Hicksville\, titled: \n“Women’s Health\, Longevity & Lifestyle Medicine” \nFeaturing: Dr. Nitu Bajekal – Senior Consultant OBGYN\, surgeon & Author of Living PCOS Free & Me in Menopause. \nEvent Overview: \nDr. Nitu Bajekal\, a UK-based women’s health expert with over 40 years of experience\, delivered a powerful and evidence-based talk addressing critical women’s health topics—ranging from PCOS\, endometriosis\, menopause\, fertility to breast and cervical cancer. Her emphasis on the role of nutrition and lifestyle medicine in preventing and managing these conditions resonated deeply with the audience. \nAcknowledgment: \nWe extend heartfelt thanks to Plant Powered Metro New York (PPMNY) for their collaboration with World Vegan Vision (WVV) in co-hosting this important program. Their support was invaluable in outreach and community engagement. \nKey Highlights: \n\n👥 75+ attendees\, including a mix of healthcare-conscious individuals\, families\, and wellness advocates.\n🥗 A Vegan plant-based\, oil-free dinner was served after the session\, encouraging healthy lifestyle practices.\n🩺 Dr. Bajekal addressed real-life women’s health concerns with clarity\, empathy\, and practical guidance.\n❓ A vibrant Q&A session followed\, where audience members raised questions around hormonal health\, cancer risk\, and holistic living.\n📚 We raffled 5 of Dr. Bajekal’s books.\n\nConclusion: \nThe session was highly appreciated for its relevance\, depth\, and warmth\, especially by women seeking better health solutions. Based on attendee feedback\, there is significant interest in organizing future women-focused health events.  \n 
URL:https://worldveganvision.org/event/womens-health-dr-nitu-bajekal/
LOCATION:Asa Mai Temple\, 80 E. Barclay Street\, Hicksville\, NY\, 11801\, United States
END:VEVENT
END:VCALENDAR