BEGIN:VCALENDAR
VERSION:2.0
PRODID:-//World Vegan Vision - ECPv6.15.20//NONSGML v1.0//EN
CALSCALE:GREGORIAN
METHOD:PUBLISH
X-WR-CALNAME:World Vegan Vision
X-ORIGINAL-URL:https://worldveganvision.org
X-WR-CALDESC:Events for World Vegan Vision
REFRESH-INTERVAL;VALUE=DURATION:PT1H
X-Robots-Tag:noindex
X-PUBLISHED-TTL:PT1H
BEGIN:VTIMEZONE
TZID:Asia/Kolkata
BEGIN:STANDARD
TZOFFSETFROM:+0530
TZOFFSETTO:+0530
TZNAME:IST
DTSTART:20240101T000000
END:STANDARD
END:VTIMEZONE
BEGIN:VEVENT
DTSTART;TZID=Asia/Kolkata:20250308T163000
DTEND;TZID=Asia/Kolkata:20250308T190000
DTSTAMP:20260420T120523
CREATED:20250307T132423Z
LAST-MODIFIED:20250307T150940Z
UID:3253-1741451400-1741460400@worldveganvision.org
SUMMARY:2025-03-08 Goa Chapter Inauguration
DESCRIPTION:
URL:https://worldveganvision.org/event/2025-03-08-goa-chapter-inauguration/
LOCATION:NY
END:VEVENT
END:VCALENDAR