BEGIN:VCALENDAR
VERSION:2.0
PRODID:-//World Vegan Vision - ECPv6.15.20//NONSGML v1.0//EN
CALSCALE:GREGORIAN
METHOD:PUBLISH
X-WR-CALNAME:World Vegan Vision
X-ORIGINAL-URL:https://worldveganvision.org
X-WR-CALDESC:Events for World Vegan Vision
REFRESH-INTERVAL;VALUE=DURATION:PT1H
X-Robots-Tag:noindex
X-PUBLISHED-TTL:PT1H
BEGIN:VTIMEZONE
TZID:Asia/Kolkata
BEGIN:STANDARD
TZOFFSETFROM:+0530
TZOFFSETTO:+0530
TZNAME:IST
DTSTART:20230101T000000
END:STANDARD
END:VTIMEZONE
BEGIN:VEVENT
DTSTART;TZID=Asia/Kolkata:20241122T100000
DTEND;TZID=Asia/Kolkata:20241122T120000
DTSTAMP:20260420T191700
CREATED:20241122T160709Z
LAST-MODIFIED:20241201T152134Z
UID:3155-1732269600-1732276800@worldveganvision.org
SUMMARY:Dr Shrenik Shah - Swarnim University
DESCRIPTION:  \nPhoto album at – https://photos.app.goo.gl/AgEybfNZXU3aFgEL9 \n*Mind\, Body\, & Soul Alignment with a Whole Food Plant-Based Diet* \n*Date:* November 22\, 2024\n*Time:* 10:00 AM Onwards\n*Venue:* Swarrnim Institute of Health Science \n*Guest Speaker:* Dr. Shrenik Shah\, MD Physician & Medical Director of World vegan vision usa . \nDiscover the benefits of a plant-based lifestyle and how it can transform your well-being. Your presence and support would be a blessing as we explore the path to holistic health. \nFor more details\, please visit [swarrnim.edu.in](http://www.swarrnim.edu.in). \n  \nDr Shrenik Shah also presented at Gujarat Vidyapith on 11/21/2024 – Here is the video – https://youtu.be/kKA8DBI8TAw
URL:https://worldveganvision.org/event/dr-shrenik-shah-swarnim-university/
LOCATION:NY
END:VEVENT
END:VCALENDAR