BEGIN:VCALENDAR
VERSION:2.0
PRODID:-//World Vegan Vision - ECPv6.15.20//NONSGML v1.0//EN
CALSCALE:GREGORIAN
METHOD:PUBLISH
X-ORIGINAL-URL:https://worldveganvision.org
X-WR-CALDESC:Events for World Vegan Vision
REFRESH-INTERVAL;VALUE=DURATION:PT1H
X-Robots-Tag:noindex
X-PUBLISHED-TTL:PT1H
BEGIN:VTIMEZONE
TZID:America/New_York
BEGIN:DAYLIGHT
TZOFFSETFROM:-0500
TZOFFSETTO:-0400
TZNAME:EDT
DTSTART:20230312T070000
END:DAYLIGHT
BEGIN:STANDARD
TZOFFSETFROM:-0400
TZOFFSETTO:-0500
TZNAME:EST
DTSTART:20231105T060000
END:STANDARD
BEGIN:DAYLIGHT
TZOFFSETFROM:-0500
TZOFFSETTO:-0400
TZNAME:EDT
DTSTART:20240310T070000
END:DAYLIGHT
BEGIN:STANDARD
TZOFFSETFROM:-0400
TZOFFSETTO:-0500
TZNAME:EST
DTSTART:20241103T060000
END:STANDARD
BEGIN:DAYLIGHT
TZOFFSETFROM:-0500
TZOFFSETTO:-0400
TZNAME:EDT
DTSTART:20250309T070000
END:DAYLIGHT
BEGIN:STANDARD
TZOFFSETFROM:-0400
TZOFFSETTO:-0500
TZNAME:EST
DTSTART:20251102T060000
END:STANDARD
END:VTIMEZONE
BEGIN:VEVENT
DTSTART;TZID=America/New_York:20240907T110000
DTEND;TZID=America/New_York:20240909T200000
DTSTAMP:20260420T231129
CREATED:20240821T141830Z
LAST-MODIFIED:20240915T123607Z
UID:3067-1725706800-1725912000@worldveganvision.org
SUMMARY:Vegan Ganesh Chaturthi Celebration
DESCRIPTION:**You are cordially invited to the World Vegan Vision’s inaugural Vegan Ganesh Festival\, a unique and joyous celebration of Lord Ganesha!**\n\n**Join us on Saturday\, September 7th\, at the Siddhi Vinayak Temple in Lawrenceville\, NJ\, for an unforgettable experience.**\n\n**The event will feature:**\n\n* **Traditional ceremonies:** Ganesh Sthapna\, Maha Pooja\, Mangal Arti and Sandhya Arti\n* **Delicious vegan prashad (offerings)**\n* **Spiritual music and dance:** Bhajan and Ganesh Dance\n* **Blessings from esteemed priests**\n\n**We encourage you to bring your family and friends to this special event\, where we will come together in celebration and to promote a compassionate and sustainable future.**\n\n**Please note that all offerings should be made with plant-based ingredients. No dairy products will be allowed.**\n\n**Event Details:**\n\n**Date:** Saturday\, September 7th\n**Time:** Mangal Arti 11:00 AM / Sandhya Arti 7:00 PM\n**Location:** Siddhi Vinayak Temple\, 353 Lawrence Station Rd\, Lawrenceville\, NJ 08648\n\n**For more information\, please contact:**\n\n* Dilip Upadhyay (Temple Coordinator): +1 (757) 816-6064\n* Nitin Vyas (Event Inquiries): 732-331-8146\n\n**Visit us at:** www.worldveganvision.org\nFacebook post is here\nPhotos of the event are here and here\nVideo clip of the event is here\nand here\n\nPress Release\n\n*Ganpati Chaturthi Revolutionized: First-ever Vegan Celebration at Siddhi Vinayak Temple\, NJ* \nLawrenceville\, NJ — On September 7\, 2024\, history was made at the Siddhi Vinayak Temple in Lawrenceville as devotees gathered to celebrate Ganpati Chaturthi in an unprecedented vegan format. Initiated by World Vegan Vision\, the celebration emphasized compassion and environmentalism through the exclusive use of plant-based offerings for the entire ceremony. \nThe bold initiative\, led by Mr. Dilip Upadhaya and supported by prominent figures like Nina & Nitin Vyas\, Utkarsh Pandya\, and the Modi family\, was warmly received by the community. The day’s events started with traditional Ganesh Staphana rituals and were enriched by evening bhajans featuring Sangeeta Ji and Aditi Banerjee’s group. \nA highlight of the event was Dr. Shrenik Shah’s insightful discourse on the importance of incorporating vegan principles in religious ceremonies to promote planetary health. Attendees included influential community leaders such as Founder H k & Malti Shah\, Vice Chairman Satish Karnidkar\, WVV of Dedicated Volunteers Dipti Sheth & Jason\, Philanthropy Piyush Patel\, Arista Care Mukund / Rama Thakkar\, Royal Rice Kaushik / Dipti Vyas \,Mrs. & Mr. Jitu Bhai Fadia\,& Indo American Mrs & Mr\, Mukund Parikh\, Show Promoter Mrs & Mr Ravi Patel and many others who contributed to this landmark event. \nThe celebration concluded with a vibrant Aarti\, Bhajan\, and a unique Vegan Maha Prasaadum\, serving over 300 participants. The successful event was coordinated by Nitin Vyas\, highlighting a transformative step toward more sustainable and compassionate religious practices.
URL:https://worldveganvision.org/event/vegan-ganesh-chaturthi-celebration/
LOCATION:353 Lawrence Station Rd\, Lawrenceville\, NJ 08648\, 353 Lawrence Station Rd\,\, Lawlenceville\, NJ\, 08648
END:VEVENT
END:VCALENDAR