BEGIN:VCALENDAR
VERSION:2.0
PRODID:-//World Vegan Vision - ECPv6.15.20//NONSGML v1.0//EN
CALSCALE:GREGORIAN
METHOD:PUBLISH
X-WR-CALNAME:World Vegan Vision
X-ORIGINAL-URL:https://worldveganvision.org
X-WR-CALDESC:Events for World Vegan Vision
REFRESH-INTERVAL;VALUE=DURATION:PT1H
X-Robots-Tag:noindex
X-PUBLISHED-TTL:PT1H
BEGIN:VTIMEZONE
TZID:America/New_York
BEGIN:DAYLIGHT
TZOFFSETFROM:-0500
TZOFFSETTO:-0400
TZNAME:EDT
DTSTART:20230312T070000
END:DAYLIGHT
BEGIN:STANDARD
TZOFFSETFROM:-0400
TZOFFSETTO:-0500
TZNAME:EST
DTSTART:20231105T060000
END:STANDARD
BEGIN:DAYLIGHT
TZOFFSETFROM:-0500
TZOFFSETTO:-0400
TZNAME:EDT
DTSTART:20240310T070000
END:DAYLIGHT
BEGIN:STANDARD
TZOFFSETFROM:-0400
TZOFFSETTO:-0500
TZNAME:EST
DTSTART:20241103T060000
END:STANDARD
BEGIN:DAYLIGHT
TZOFFSETFROM:-0500
TZOFFSETTO:-0400
TZNAME:EDT
DTSTART:20250309T070000
END:DAYLIGHT
BEGIN:STANDARD
TZOFFSETFROM:-0400
TZOFFSETTO:-0500
TZNAME:EST
DTSTART:20251102T060000
END:STANDARD
END:VTIMEZONE
BEGIN:VEVENT
DTSTART;TZID=America/New_York:20240602T110000
DTEND;TZID=America/New_York:20240602T160000
DTSTAMP:20260421T044918
CREATED:20240518T174226Z
LAST-MODIFIED:20240609T154705Z
UID:2919-1717326000-1717344000@worldveganvision.org
SUMMARY:2024 Yoga Day Cruise
DESCRIPTION:World Vegan Vision has organized a cruise in the NY harbor to celebrate the international Day of Yoga 2024. \nView photos at https://photos.app.goo.gl/TUQku3pif6ULxsPG9 \nand \nhttps://photos.app.goo.gl/Nx3BzqUj5FQuam2q6 \nVideo highlights at https://youtu.be/bTrjvVCj-48 \nand https://youtu.be/q4TjUeXOgkA \nPress Release in English\,  Hindi and in Gujarati\,  and another in Gujarati
URL:https://worldveganvision.org/event/2024-ydc/
LOCATION:World Fair Marina\, 1 Marina Drive\, Flushing\, NJ\, United States
END:VEVENT
END:VCALENDAR